BEGIN:VCALENDAR
VERSION:2.0
PRODID:-//Cape Fear Anglers - ECPv6.15.20//NONSGML v1.0//EN
CALSCALE:GREGORIAN
METHOD:PUBLISH
X-ORIGINAL-URL:https://capefearanglers.com
X-WR-CALDESC:Events for Cape Fear Anglers
REFRESH-INTERVAL;VALUE=DURATION:PT1H
X-Robots-Tag:noindex
X-PUBLISHED-TTL:PT1H
BEGIN:VTIMEZONE
TZID:America/New_York
BEGIN:DAYLIGHT
TZOFFSETFROM:-0500
TZOFFSETTO:-0400
TZNAME:EDT
DTSTART:20250309T070000
END:DAYLIGHT
BEGIN:STANDARD
TZOFFSETFROM:-0400
TZOFFSETTO:-0500
TZNAME:EST
DTSTART:20251102T060000
END:STANDARD
BEGIN:DAYLIGHT
TZOFFSETFROM:-0500
TZOFFSETTO:-0400
TZNAME:EDT
DTSTART:20260308T070000
END:DAYLIGHT
BEGIN:STANDARD
TZOFFSETFROM:-0400
TZOFFSETTO:-0500
TZNAME:EST
DTSTART:20261101T060000
END:STANDARD
BEGIN:DAYLIGHT
TZOFFSETFROM:-0500
TZOFFSETTO:-0400
TZNAME:EDT
DTSTART:20270314T070000
END:DAYLIGHT
BEGIN:STANDARD
TZOFFSETFROM:-0400
TZOFFSETTO:-0500
TZNAME:EST
DTSTART:20271107T060000
END:STANDARD
END:VTIMEZONE
BEGIN:VEVENT
DTSTART;TZID=America/New_York:20260519T173000
DTEND;TZID=America/New_York:20260519T193000
DTSTAMP:20260423T161722
CREATED:20251029T174555Z
LAST-MODIFIED:20251215T150013Z
UID:2672-1779211800-1779219000@capefearanglers.com
SUMMARY:CFA Club Meeting (Placeholder Marine Fisheries)
DESCRIPTION:Dinner begins at 5:30\, Meeting starts at 6:30 pm\, speaker sessions 6:45-7:15\, meeting adjourns at 7:30.
URL:https://capefearanglers.com/event/cfa-club-meeting-21/
LOCATION:Kickback Jack’s\, 418 College Road\, Wilmington\, NC\, 28403\, United States
CATEGORIES:Club Meeting
END:VEVENT
END:VCALENDAR