BEGIN:VCALENDAR
VERSION:2.0
PRODID:-//Cape Fear Anglers - ECPv6.15.20//NONSGML v1.0//EN
CALSCALE:GREGORIAN
METHOD:PUBLISH
X-ORIGINAL-URL:https://capefearanglers.com
X-WR-CALDESC:Events for Cape Fear Anglers
REFRESH-INTERVAL;VALUE=DURATION:PT1H
X-Robots-Tag:noindex
X-PUBLISHED-TTL:PT1H
BEGIN:VTIMEZONE
TZID:America/New_York
BEGIN:DAYLIGHT
TZOFFSETFROM:-0500
TZOFFSETTO:-0400
TZNAME:EDT
DTSTART:20240310T070000
END:DAYLIGHT
BEGIN:STANDARD
TZOFFSETFROM:-0400
TZOFFSETTO:-0500
TZNAME:EST
DTSTART:20241103T060000
END:STANDARD
BEGIN:DAYLIGHT
TZOFFSETFROM:-0500
TZOFFSETTO:-0400
TZNAME:EDT
DTSTART:20250309T070000
END:DAYLIGHT
BEGIN:STANDARD
TZOFFSETFROM:-0400
TZOFFSETTO:-0500
TZNAME:EST
DTSTART:20251102T060000
END:STANDARD
BEGIN:DAYLIGHT
TZOFFSETFROM:-0500
TZOFFSETTO:-0400
TZNAME:EDT
DTSTART:20260308T070000
END:DAYLIGHT
BEGIN:STANDARD
TZOFFSETFROM:-0400
TZOFFSETTO:-0500
TZNAME:EST
DTSTART:20261101T060000
END:STANDARD
END:VTIMEZONE
BEGIN:VEVENT
DTSTART;TZID=America/New_York:20250610T180000
DTEND;TZID=America/New_York:20250610T193000
DTSTAMP:20260425T225526
CREATED:20250320T133718Z
LAST-MODIFIED:20250320T133718Z
UID:2223-1749578400-1749583800@capefearanglers.com
SUMMARY:CFA Board Meeting
DESCRIPTION:
URL:https://capefearanglers.com/event/cfa-board-meeting-3/
END:VEVENT
BEGIN:VEVENT
DTSTART;TZID=America/New_York:20250612T173000
DTEND;TZID=America/New_York:20250612T200000
DTSTAMP:20260425T225526
CREATED:20250519T142049Z
LAST-MODIFIED:20250519T171853Z
UID:2326-1749749400-1749758400@capefearanglers.com
SUMMARY:Compass point  Fishing Club @ Intracoastal Anglers Wilmington
DESCRIPTION:Compass Pointe Fishing Club has invited us to join them at Intracoastal Anglers on June 12th. The meeting will start at 6:30 but we get to shop and use our 10% off on what we buy that will start at 5:30. \nThere will be multiple speakers\, Captain Robby Wolf of the Whipsaw out of Wrightsville Beach and a Division of Marine Fisheries spokesperson.  \nThere will be multiple speakers\, Captain Robby Wolf of the Whipsaw out of Wrightsville Beach and a Division of Marine Fisheries spokesperson.  \nBring your own chair.
URL:https://capefearanglers.com/event/compass-point-fishing-club-intracoastal-anglers-wilmington/
END:VEVENT
BEGIN:VEVENT
DTSTART;TZID=America/New_York:20250617T173000
DTEND;TZID=America/New_York:20250617T173000
DTSTAMP:20260425T225526
CREATED:20240626T134521Z
LAST-MODIFIED:20240918T190254Z
UID:166-1750181400-1750181400@capefearanglers.com
SUMMARY:CFA Club Meeting
DESCRIPTION:Dinner begins at 5:30\, Meeting starts at 6:00 pm
URL:https://capefearanglers.com/event/cfa-club-meeting-11/
LOCATION:Kickback Jack’s\, 418 College Road\, Wilmington\, NC\, 28403\, United States
CATEGORIES:Club Meeting
END:VEVENT
END:VCALENDAR